BEGIN:VCALENDAR
VERSION:2.0
PRODID:-//Manitoulin Culinary Tourism - ECPv6.15.20//NONSGML v1.0//EN
CALSCALE:GREGORIAN
METHOD:PUBLISH
X-ORIGINAL-URL:https://mymanitoulinisland.ca
X-WR-CALDESC:Events for Manitoulin Culinary Tourism
REFRESH-INTERVAL;VALUE=DURATION:PT1H
X-Robots-Tag:noindex
X-PUBLISHED-TTL:PT1H
BEGIN:VTIMEZONE
TZID:America/Toronto
BEGIN:DAYLIGHT
TZOFFSETFROM:-0500
TZOFFSETTO:-0400
TZNAME:EDT
DTSTART:20240310T070000
END:DAYLIGHT
BEGIN:STANDARD
TZOFFSETFROM:-0400
TZOFFSETTO:-0500
TZNAME:EST
DTSTART:20241103T060000
END:STANDARD
BEGIN:DAYLIGHT
TZOFFSETFROM:-0500
TZOFFSETTO:-0400
TZNAME:EDT
DTSTART:20250309T070000
END:DAYLIGHT
BEGIN:STANDARD
TZOFFSETFROM:-0400
TZOFFSETTO:-0500
TZNAME:EST
DTSTART:20251102T060000
END:STANDARD
BEGIN:DAYLIGHT
TZOFFSETFROM:-0500
TZOFFSETTO:-0400
TZNAME:EDT
DTSTART:20260308T070000
END:DAYLIGHT
BEGIN:STANDARD
TZOFFSETFROM:-0400
TZOFFSETTO:-0500
TZNAME:EST
DTSTART:20261101T060000
END:STANDARD
END:VTIMEZONE
BEGIN:VEVENT
DTSTART;TZID=America/Toronto:20250822T183000
DTEND;TZID=America/Toronto:20250822T210000
DTSTAMP:20260419T110408
CREATED:20250611T210141Z
LAST-MODIFIED:20250611T235816Z
UID:6282-1755887400-1755896400@mymanitoulinisland.ca
SUMMARY:2025 Sunset Music Series – Providence Bay Beach
DESCRIPTION:2025 Sunset Music Series – Providence Bay Beach\non the boardwalk beside Huron Island Time where you can get a meal and or an ice cream while you sit and enjoy the show.  Bring a sweater and blanket as the evenings get cool \nBRING YOUR OWN CHAIR. \nAugust 22nd Tyson Ranger
URL:https://mymanitoulinisland.ca/event/2025-sunset-music-series-providence-bay-beach-16/
LOCATION:Providence Bay Beach\, 24 Muchmore Street\, Providence Bay\, ON\, Canada
CATEGORIES:Concert,Family Event,Music Festival,Outdoor Event
ATTACH;FMTTYPE=image/webp:https://mymanitoulinisland.ca/wp-content/uploads/2024/09/huronislandtime-logo-2020.webp
END:VEVENT
BEGIN:VEVENT
DTSTART;TZID=America/Toronto:20250816T180000
DTEND;TZID=America/Toronto:20250816T213000
DTSTAMP:20260419T110408
CREATED:20250611T210020Z
LAST-MODIFIED:20250611T235840Z
UID:6280-1755367200-1755379800@mymanitoulinisland.ca
SUMMARY:2025 Sunset Music Series – Providence Bay Beach
DESCRIPTION:2025 Sunset Music Series – Providence Bay Beach\non the boardwalk beside Huron Island Time where you can get a meal and or an ice cream while you sit and enjoy the show.  Bring a sweater and blanket as the evenings get cool \nBRING YOUR OWN CHAIR. \nAugust 16th Debagehmujig followed by Katriona Surnton
URL:https://mymanitoulinisland.ca/event/2025-sunset-music-series-providence-bay-beach-15/
LOCATION:Providence Bay Beach\, 24 Muchmore Street\, Providence Bay\, ON\, Canada
CATEGORIES:Concert,Family Event,Music Festival,Outdoor Event
ATTACH;FMTTYPE=image/webp:https://mymanitoulinisland.ca/wp-content/uploads/2024/09/huronislandtime-logo-2020.webp
END:VEVENT
BEGIN:VEVENT
DTSTART;TZID=America/Toronto:20250815T183000
DTEND;TZID=America/Toronto:20250815T210000
DTSTAMP:20260419T110408
CREATED:20250611T205823Z
LAST-MODIFIED:20250612T000119Z
UID:6278-1755282600-1755291600@mymanitoulinisland.ca
SUMMARY:2025 Sunset Music Series – Providence Bay Beach
DESCRIPTION:2025 Sunset Music Series – Providence Bay Beach\non the boardwalk beside Huron Island Time where you can get a meal and or an ice cream while you sit and enjoy the show.  Bring a sweater and blanket as the evenings get cool \nBRING YOUR OWN CHAIR. \nAugust 15th Trout Lily
URL:https://mymanitoulinisland.ca/event/2025-sunset-music-series-providence-bay-beach-14/
LOCATION:Providence Bay Beach\, 24 Muchmore Street\, Providence Bay\, ON\, Canada
CATEGORIES:Concert,Family Event,Music Festival,Outdoor Event
ATTACH;FMTTYPE=image/webp:https://mymanitoulinisland.ca/wp-content/uploads/2024/09/huronislandtime-logo-2020.webp
END:VEVENT
BEGIN:VEVENT
DTSTART;TZID=America/Toronto:20250809T183000
DTEND;TZID=America/Toronto:20250809T210000
DTSTAMP:20260419T110408
CREATED:20250611T205640Z
LAST-MODIFIED:20250806T153855Z
UID:6276-1754764200-1754773200@mymanitoulinisland.ca
SUMMARY:2025 Sunset Music Series – Providence Bay Beach PRIDE WEEK
DESCRIPTION:2025 Sunset Music Series – Providence Bay Beach\non the boardwalk beside Huron Island Time where you can get a meal and or an ice cream while you sit and enjoy the show.  Bring a sweater and blanket as the evenings get cool \nBRING YOUR OWN CHAIR. \nPride Weekend August 9th J3M & Wild Black
URL:https://mymanitoulinisland.ca/event/2025-sunset-music-series-providence-bay-beach-13/
LOCATION:Providence Bay Beach\, 24 Muchmore Street\, Providence Bay\, ON\, Canada
CATEGORIES:Concert,Family Event,Music Festival,Outdoor Event,Pride Event
ATTACH;FMTTYPE=image/webp:https://mymanitoulinisland.ca/wp-content/uploads/2024/09/huronislandtime-logo-2020.webp
END:VEVENT
BEGIN:VEVENT
DTSTART;TZID=America/Toronto:20250808T183000
DTEND;TZID=America/Toronto:20250808T210000
DTSTAMP:20260419T110408
CREATED:20250611T205449Z
LAST-MODIFIED:20250806T154006Z
UID:6274-1754677800-1754686800@mymanitoulinisland.ca
SUMMARY:2025 Sunset Music Series – Providence Bay Beach PRIDE WEEK
DESCRIPTION:2025 Sunset Music Series – Providence Bay Beach\non the boardwalk beside Huron Island Time where you can get a meal and or an ice cream while you sit and enjoy the show.  Bring a sweater and blanket as the evenings get cool \nBRING YOUR OWN CHAIR. \nPride Weekend\nAugust 8th Nettish
URL:https://mymanitoulinisland.ca/event/2025-sunset-music-series-providence-bay-beach-12/
LOCATION:Providence Bay Beach\, 24 Muchmore Street\, Providence Bay\, ON\, Canada
CATEGORIES:Concert,Family Event,Music Festival,Outdoor Event,Pride Event
ATTACH;FMTTYPE=image/webp:https://mymanitoulinisland.ca/wp-content/uploads/2024/09/huronislandtime-logo-2020.webp
END:VEVENT
BEGIN:VEVENT
DTSTART;TZID=America/Toronto:20250802T183000
DTEND;TZID=America/Toronto:20250802T210000
DTSTAMP:20260419T110408
CREATED:20250611T205240Z
LAST-MODIFIED:20250611T235959Z
UID:6272-1754159400-1754168400@mymanitoulinisland.ca
SUMMARY:2025 Sunset Music Series – Providence Bay Beach
DESCRIPTION:2025 Sunset Music Series – Providence Bay Beach\non the boardwalk beside Huron Island Time where you can get a meal and or an ice cream while you sit and enjoy the show.  Bring a sweater and blanket as the evenings get cool \nBRING YOUR OWN CHAIR. \nAugust 2nd  Nick Posthumus
URL:https://mymanitoulinisland.ca/event/2025-sunset-music-series-providence-bay-beach-11/
LOCATION:Providence Bay Beach\, 24 Muchmore Street\, Providence Bay\, ON\, Canada
CATEGORIES:Concert,Family Event,Music Festival,Outdoor Event
ATTACH;FMTTYPE=image/webp:https://mymanitoulinisland.ca/wp-content/uploads/2024/09/huronislandtime-logo-2020.webp
END:VEVENT
BEGIN:VEVENT
DTSTART;TZID=America/Toronto:20250801T183000
DTEND;TZID=America/Toronto:20250801T210000
DTSTAMP:20260419T110408
CREATED:20250611T205027Z
LAST-MODIFIED:20250611T235938Z
UID:6270-1754073000-1754082000@mymanitoulinisland.ca
SUMMARY:2025 Sunset Music Series – Providence Bay Beach
DESCRIPTION:2025 Sunset Music Series – Providence Bay Beach\non the boardwalk beside Huron Island Time where you can get a meal and or an ice cream while you sit and enjoy the show.  Bring a sweater and blanket as the evenings get cool \nBRING YOUR OWN CHAIR. \nAugust 1st  London Trio
URL:https://mymanitoulinisland.ca/event/2025-sunset-music-series-providence-bay-beach-10/
LOCATION:Providence Bay Beach\, 24 Muchmore Street\, Providence Bay\, ON\, Canada
CATEGORIES:Concert,Family Event,Music Festival,Outdoor Event
ATTACH;FMTTYPE=image/webp:https://mymanitoulinisland.ca/wp-content/uploads/2024/09/huronislandtime-logo-2020.webp
END:VEVENT
BEGIN:VEVENT
DTSTART;VALUE=DATE:20250801
DTEND;VALUE=DATE:20250802
DTSTAMP:20260419T110408
CREATED:20250723T220657Z
LAST-MODIFIED:20250723T220657Z
UID:7166-1754006400-1754092799@mymanitoulinisland.ca
SUMMARY:Wiikwemkoong Arts and Music Festival 2025
DESCRIPTION:Wiikwemkoong Arts and Music Festival 2025\nThunderbird Park\, Wiikwemkoong \nThis is an alcohol and substance free event. 24 hour security.  Bring a Chair \nHeadliner William Prince \n\nSmoke Dance & Fancy Dance Showdown\nFashion Show\nYouth Chef Showdown\nArts & Crafts Marketplace\nCulinary Vendors
URL:https://mymanitoulinisland.ca/event/wiikwemkoong-arts-and-music-festival-2025/
LOCATION:Thunderbird Park\, 18A Kaboni Road\, Wikwemikong\, Ontario\, Canada
CATEGORIES:Concert,Culinary Event,Indigenous Event,Music Event
ATTACH;FMTTYPE=image/jpeg:https://mymanitoulinisland.ca/wp-content/uploads/2025/07/Wiikwemkoong-Arts-Music-Festival-Poster-2025-06.jpg
END:VEVENT
BEGIN:VEVENT
DTSTART;TZID=America/Toronto:20250726T180000
DTEND;TZID=America/Toronto:20250726T213000
DTSTAMP:20260419T110408
CREATED:20250611T204841Z
LAST-MODIFIED:20250611T235919Z
UID:6268-1753552800-1753565400@mymanitoulinisland.ca
SUMMARY:2025 Sunset Music Series – Providence Bay Beach
DESCRIPTION:2025 Sunset Music Series – Providence Bay Beach\non the boardwalk beside Huron Island Time where you can get a meal and or an ice cream while you sit and enjoy the show.  Bring a sweater and blanket as the evenings get cool \nBRING YOUR OWN CHAIR. \nJuly 26th Debajehmujig Storytellers followed by Ras Hari 
URL:https://mymanitoulinisland.ca/event/2025-sunset-music-series-providence-bay-beach-9/
LOCATION:Providence Bay Beach\, 24 Muchmore Street\, Providence Bay\, ON\, Canada
CATEGORIES:Concert,Family Event,Music Festival,Outdoor Event
ATTACH;FMTTYPE=image/webp:https://mymanitoulinisland.ca/wp-content/uploads/2024/09/huronislandtime-logo-2020.webp
END:VEVENT
BEGIN:VEVENT
DTSTART;TZID=America/Toronto:20250725T183000
DTEND;TZID=America/Toronto:20250725T210000
DTSTAMP:20260419T110408
CREATED:20250611T204615Z
LAST-MODIFIED:20250611T235625Z
UID:6266-1753468200-1753477200@mymanitoulinisland.ca
SUMMARY:2025 Sunset Music Series – Providence Bay Beach
DESCRIPTION:2025 Sunset Music Series – Providence Bay Beach\non the boardwalk beside Huron Island Time where you can get a meal and or an ice cream while you sit and enjoy the show.  Bring a sweater and blanket as the evenings get cool \nBRING YOUR OWN CHAIR. \nJuly 25th Chris Walker
URL:https://mymanitoulinisland.ca/event/2025-sunset-music-series-providence-bay-beach-8/
LOCATION:Providence Bay Beach\, 24 Muchmore Street\, Providence Bay\, ON\, Canada
CATEGORIES:Concert,Family Event,Music Festival,Outdoor Event
ATTACH;FMTTYPE=image/webp:https://mymanitoulinisland.ca/wp-content/uploads/2024/09/huronislandtime-logo-2020.webp
END:VEVENT
BEGIN:VEVENT
DTSTART;TZID=America/Toronto:20250719T183000
DTEND;TZID=America/Toronto:20250719T210000
DTSTAMP:20260419T110408
CREATED:20250611T204438Z
LAST-MODIFIED:20250611T235555Z
UID:6264-1752949800-1752958800@mymanitoulinisland.ca
SUMMARY:2025 Sunset Music Series – Providence Bay Beach
DESCRIPTION:2025 Sunset Music Series – Providence Bay Beach\non the boardwalk beside Huron Island Time where you can get a meal and or an ice cream while you sit and enjoy the show.  Bring a sweater and blanket as the evenings get cool \nBRING YOUR OWN CHAIR. \nJuly 19th  Ian Read
URL:https://mymanitoulinisland.ca/event/2025-sunset-music-series-providence-bay-beach-7/
LOCATION:Providence Bay Beach\, 24 Muchmore Street\, Providence Bay\, ON\, Canada
CATEGORIES:Concert,Family Event,Outdoor Event
ATTACH;FMTTYPE=image/webp:https://mymanitoulinisland.ca/wp-content/uploads/2024/09/huronislandtime-logo-2020.webp
END:VEVENT
BEGIN:VEVENT
DTSTART;TZID=America/Toronto:20250718T183000
DTEND;TZID=America/Toronto:20250718T210000
DTSTAMP:20260419T110408
CREATED:20250611T204243Z
LAST-MODIFIED:20250611T235530Z
UID:6262-1752863400-1752872400@mymanitoulinisland.ca
SUMMARY:2025 Sunset Music Series – Providence Bay Beach
DESCRIPTION:2025 Sunset Music Series – Providence Bay Beach\non the boardwalk beside Huron Island Time where you can get a meal and or an ice cream while you sit and enjoy the show.  Bring a sweater and blanket as the evenings get cool \nBRING YOUR OWN CHAIR. \nJuly 18th  Jeff Wiseman Trio
URL:https://mymanitoulinisland.ca/event/2025-sunset-music-series-providence-bay-beach-6/
LOCATION:Providence Bay Beach\, 24 Muchmore Street\, Providence Bay\, ON\, Canada
CATEGORIES:Concert,Family Event,Outdoor Event
ATTACH;FMTTYPE=image/webp:https://mymanitoulinisland.ca/wp-content/uploads/2024/09/huronislandtime-logo-2020.webp
END:VEVENT
BEGIN:VEVENT
DTSTART;TZID=America/Toronto:20250712T183000
DTEND;TZID=America/Toronto:20250712T210000
DTSTAMP:20260419T110408
CREATED:20250611T204046Z
LAST-MODIFIED:20250611T235858Z
UID:6260-1752345000-1752354000@mymanitoulinisland.ca
SUMMARY:2025 Sunset Music Series – Providence Bay Beach
DESCRIPTION:2025 Sunset Music Series – Providence Bay Beach\non the boardwalk beside Huron Island Time where you can get a meal and or an ice cream while you sit and enjoy the show.  Bring a sweater and blanket as the evenings get cool \nBRING YOUR OWN CHAIR. \nJuly 12th Chris & Mary
URL:https://mymanitoulinisland.ca/event/2025-sunset-music-series-providence-bay-beach-5/
LOCATION:Providence Bay Beach\, 24 Muchmore Street\, Providence Bay\, ON\, Canada
CATEGORIES:Concert,Family Event,Outdoor Event
ATTACH;FMTTYPE=image/webp:https://mymanitoulinisland.ca/wp-content/uploads/2024/09/huronislandtime-logo-2020.webp
END:VEVENT
BEGIN:VEVENT
DTSTART;TZID=America/Toronto:20250711T183000
DTEND;TZID=America/Toronto:20250711T210000
DTSTAMP:20260419T110408
CREATED:20250611T203840Z
LAST-MODIFIED:20250611T235503Z
UID:6258-1752258600-1752267600@mymanitoulinisland.ca
SUMMARY:2025 Sunset Music Series – Providence Bay Beach
DESCRIPTION:2025 Sunset Music Series – Providence Bay Beach\non the boardwalk beside Huron Island Time where you can get a meal and or an ice cream while you sit and enjoy the show.  Bring a sweater and blanket as the evenings get cool \nBRING YOUR OWN CHAIR. \nJuly 11th Ricardo Chavez and Tristan Hall
URL:https://mymanitoulinisland.ca/event/2025-sunset-music-series-providence-bay-beach-4/
LOCATION:Providence Bay Beach\, 24 Muchmore Street\, Providence Bay\, ON\, Canada
CATEGORIES:Concert,Family Event,Outdoor Event
ATTACH;FMTTYPE=image/webp:https://mymanitoulinisland.ca/wp-content/uploads/2024/09/huronislandtime-logo-2020.webp
END:VEVENT
BEGIN:VEVENT
DTSTART;TZID=America/Toronto:20250711T180000
DTEND;TZID=America/Toronto:20250711T210000
DTSTAMP:20260419T110408
CREATED:20250517T202536Z
LAST-MODIFIED:20250517T202536Z
UID:4899-1752256800-1752267600@mymanitoulinisland.ca
SUMMARY:Shania Tribute Concert
DESCRIPTION:Shania Tribute Concert.  Live Vocals One of North America’s top Tribute Acts 2pm Matinee $35.00 6pm Dinner & Show (Prime Rib) $75.00
URL:https://mymanitoulinisland.ca/event/shania-tribute-concert/
LOCATION:Manitoulin Hotel & Conference Centre\, 66 Meredith St East\, Little Current\, Ontario\, P0P 1K0\, Canada
CATEGORIES:Concert,Culinary Event
END:VEVENT
BEGIN:VEVENT
DTSTART;TZID=America/Toronto:20250705T183000
DTEND;TZID=America/Toronto:20250705T210000
DTSTAMP:20260419T110408
CREATED:20250611T203428Z
LAST-MODIFIED:20250611T235443Z
UID:6256-1751740200-1751749200@mymanitoulinisland.ca
SUMMARY:2025 Sunset Music Series – Providence Bay Beach
DESCRIPTION:2025 Sunset Music Series – Providence Bay Beach\non the boardwalk beside Huron Island Time where you can get a meal and or an ice cream while you sit and enjoy the show.  Bring a sweater and blanket as the evenings get cool \nBRING YOUR OWN CHAIR. \nJuly 5th  The Islanders
URL:https://mymanitoulinisland.ca/event/2025-sunset-music-series-providence-bay-beach-3/
LOCATION:Providence Bay Beach\, 24 Muchmore Street\, Providence Bay\, ON\, Canada
CATEGORIES:Concert,Family Event,Outdoor Event
ATTACH;FMTTYPE=image/webp:https://mymanitoulinisland.ca/wp-content/uploads/2024/09/huronislandtime-logo-2020.webp
END:VEVENT
BEGIN:VEVENT
DTSTART;TZID=America/Toronto:20250701T180000
DTEND;TZID=America/Toronto:20250701T220000
DTSTAMP:20260419T110408
CREATED:20250611T144548Z
LAST-MODIFIED:20250611T235344Z
UID:6248-1751392800-1751407200@mymanitoulinisland.ca
SUMMARY:2025 Sunset Music Series - Providence Bay Beach
DESCRIPTION:2025 Sunset Music Series – Providence Bay Beach\non the boardwalk beside Huron Island Time where you can get a meal and or an ice cream while you sit and enjoy the show.  Bring a sweater and blanket as the evenings get cool \nJuly 1st  Naomi Steinberg (Children’s Story Teller) 6pm We have some dj’s in the mix on the Patio throughout the day \nand there is a face painter scheduled for mid afternoon. Not sure of the time yet. probably 4pm \nSaving Grace (Tom Petty cover band) performance at 7pm
URL:https://mymanitoulinisland.ca/event/2025-sunset-music-series-providence-bay-beach/
LOCATION:Providence Bay Beach\, 24 Muchmore Street\, Providence Bay\, ON\, Canada
CATEGORIES:Concert,Family Event,Outdoor Event
ATTACH;FMTTYPE=image/webp:https://mymanitoulinisland.ca/wp-content/uploads/2024/09/huronislandtime-logo-2020.webp
END:VEVENT
BEGIN:VEVENT
DTSTART;TZID=America/Toronto:20250607T180000
DTEND;TZID=America/Toronto:20250607T210000
DTSTAMP:20260419T110408
CREATED:20250517T190621Z
LAST-MODIFIED:20250517T190621Z
UID:4879-1749319200-1749330000@mymanitoulinisland.ca
SUMMARY:Elvis Tribute Concert
DESCRIPTION:Coming to Manitoulin Hotel & Conference Centre with Live vocals\, Steve Michaels one of Canada’s elite performers 2pm doors open Matinee $35.00 (Show Only) Cash bar 6PM doors open Dinner & Show $75.00 Cash Bar Matinee performance to start at 2:30pm sharp Dinner served at 6:30pm Show starts at 7:30 pm (Dinner Rolls\, Salad\, Prime Rib\, Manitoulin Whitefish\, Wild Rice\, Season Vegetables Buffet. & our Pastry Chefs homemade assorted Desserts)
URL:https://mymanitoulinisland.ca/event/elvis-tribute-concert/
LOCATION:Manitoulin Hotel & Conference Centre\, 66 Meredith St East\, Little Current\, Ontario\, P0P 1K0\, Canada
CATEGORIES:Concert,Culinary Event
END:VEVENT
BEGIN:VEVENT
DTSTART;TZID=America/Toronto:20250525T150000
DTEND;TZID=America/Toronto:20250525T170000
DTSTAMP:20260419T110408
CREATED:20250523T205611Z
LAST-MODIFIED:20250523T205611Z
UID:5768-1748185200-1748192400@mymanitoulinisland.ca
SUMMARY:Island Singers Spring Concert
DESCRIPTION:The concert on May 25 is rapidly approaching\, and we can’t wait to share the songs we’ve been rehearsing with you! This year we’re presenting a wide variety of music\, from classical and traditional music\, to a bit of pop and a variety of modern choral compositions – there’s something for everyone!\n\n\nAlso\, this session\, we decided on a theme of environmentalism because of our recent discussions of our choir’s mission and vision statement. We love our local island of Manitoulin\, and being Canadian\, but our environment is connected to the rest of the planet. All of the pieces have some connection to the environmental concerns facing our communities and the world at large.\n\n\nWe hope you’ll join us – and can’t wait to share this beautiful music with you!
URL:https://mymanitoulinisland.ca/event/island-singers-spring-concert/
LOCATION:Manitoulin Secondary School\, Bay St.\, M'Chigeeng\, Ontario\, Canada
CATEGORIES:Concert,Family Event
END:VEVENT
END:VCALENDAR