BEGIN:VCALENDAR
VERSION:2.0
PRODID:-//Manitoulin Culinary Tourism - ECPv6.15.20//NONSGML v1.0//EN
CALSCALE:GREGORIAN
METHOD:PUBLISH
X-ORIGINAL-URL:https://mymanitoulinisland.ca
X-WR-CALDESC:Events for Manitoulin Culinary Tourism
REFRESH-INTERVAL;VALUE=DURATION:PT1H
X-Robots-Tag:noindex
X-PUBLISHED-TTL:PT1H
BEGIN:VTIMEZONE
TZID:America/Toronto
BEGIN:DAYLIGHT
TZOFFSETFROM:-0500
TZOFFSETTO:-0400
TZNAME:EDT
DTSTART:20250309T070000
END:DAYLIGHT
BEGIN:STANDARD
TZOFFSETFROM:-0400
TZOFFSETTO:-0500
TZNAME:EST
DTSTART:20251102T060000
END:STANDARD
BEGIN:DAYLIGHT
TZOFFSETFROM:-0500
TZOFFSETTO:-0400
TZNAME:EDT
DTSTART:20260308T070000
END:DAYLIGHT
BEGIN:STANDARD
TZOFFSETFROM:-0400
TZOFFSETTO:-0500
TZNAME:EST
DTSTART:20261101T060000
END:STANDARD
BEGIN:DAYLIGHT
TZOFFSETFROM:-0500
TZOFFSETTO:-0400
TZNAME:EDT
DTSTART:20270314T070000
END:DAYLIGHT
BEGIN:STANDARD
TZOFFSETFROM:-0400
TZOFFSETTO:-0500
TZNAME:EST
DTSTART:20271107T060000
END:STANDARD
END:VTIMEZONE
BEGIN:VEVENT
DTSTART;VALUE=DATE:20260130
DTEND;VALUE=DATE:20260202
DTSTAMP:20260424T023351
CREATED:20260116T184027Z
LAST-MODIFIED:20260116T184027Z
UID:8452-1769731200-1769990399@mymanitoulinisland.ca
SUMMARY:Little Current Lions Winterfest
DESCRIPTION:Little Current Lions Winterfest\nCome out to Little Current and enjoy all of the fun activities of the Little Current Lions Annual Winterfest 2026.  Lots of great hockey too!
URL:https://mymanitoulinisland.ca/event/little-current-lions-winterfest/
LOCATION:Little Current\, Ontario\, Canada
CATEGORIES:Family Event,Fun event,Outdoor Event
ATTACH;FMTTYPE=image/jpeg:https://mymanitoulinisland.ca/wp-content/uploads/2026/01/pexels-photo-813872-813872.jpg
END:VEVENT
END:VCALENDAR