BEGIN:VCALENDAR
VERSION:2.0
PRODID:-//Manitoulin Culinary Tourism - ECPv6.15.20//NONSGML v1.0//EN
CALSCALE:GREGORIAN
METHOD:PUBLISH
X-WR-CALNAME:Manitoulin Culinary Tourism
X-ORIGINAL-URL:https://mymanitoulinisland.ca
X-WR-CALDESC:Events for Manitoulin Culinary Tourism
REFRESH-INTERVAL;VALUE=DURATION:PT1H
X-Robots-Tag:noindex
X-PUBLISHED-TTL:PT1H
BEGIN:VTIMEZONE
TZID:America/Toronto
BEGIN:DAYLIGHT
TZOFFSETFROM:-0500
TZOFFSETTO:-0400
TZNAME:EDT
DTSTART:20240310T070000
END:DAYLIGHT
BEGIN:STANDARD
TZOFFSETFROM:-0400
TZOFFSETTO:-0500
TZNAME:EST
DTSTART:20241103T060000
END:STANDARD
BEGIN:DAYLIGHT
TZOFFSETFROM:-0500
TZOFFSETTO:-0400
TZNAME:EDT
DTSTART:20250309T070000
END:DAYLIGHT
BEGIN:STANDARD
TZOFFSETFROM:-0400
TZOFFSETTO:-0500
TZNAME:EST
DTSTART:20251102T060000
END:STANDARD
BEGIN:DAYLIGHT
TZOFFSETFROM:-0500
TZOFFSETTO:-0400
TZNAME:EDT
DTSTART:20260308T070000
END:DAYLIGHT
BEGIN:STANDARD
TZOFFSETFROM:-0400
TZOFFSETTO:-0500
TZNAME:EST
DTSTART:20261101T060000
END:STANDARD
BEGIN:DAYLIGHT
TZOFFSETFROM:-0500
TZOFFSETTO:-0400
TZNAME:EDT
DTSTART:20270314T070000
END:DAYLIGHT
BEGIN:STANDARD
TZOFFSETFROM:-0400
TZOFFSETTO:-0500
TZNAME:EST
DTSTART:20271107T060000
END:STANDARD
END:VTIMEZONE
BEGIN:VEVENT
DTSTART;TZID=America/Toronto:20260214T120000
DTEND;TZID=America/Toronto:20260214T180000
DTSTAMP:20260421T043912
CREATED:20260127T150954Z
LAST-MODIFIED:20260127T150954Z
UID:8542-1771070400-1771092000@mymanitoulinisland.ca
SUMMARY:Split Rail Brewery Winter Warm Up
DESCRIPTION:Split Rail Brewery Winter Warm Up\nSaturday\, February 14\, 2026\n12 PM – 6 PM \nLOCATION\nSplit Rail Brewing Co.\,\n31 Water Street\, Gore Bay \nBeat the winter blues with live music\, incredible vendors\, delicious food and craft beverages to warm you from the inside out! 🍻🎶🧡 \nInterested Vendors please Contact shirley@splitrailmanitoulin.com
URL:https://mymanitoulinisland.ca/event/split-rail-brewery-winter-warm-up/
LOCATION:Split Rail Brewery\, 31 Water St\,\, Gore Bay\, Ontario\, P0P 1H0\, Canada
CATEGORIES:Fun event,Music Festival
ATTACH;FMTTYPE=image/png:https://mymanitoulinisland.ca/wp-content/uploads/2026/01/Screenshot-2026-01-27-095437.png
END:VEVENT
BEGIN:VEVENT
DTSTART;VALUE=DATE:20260130
DTEND;VALUE=DATE:20260202
DTSTAMP:20260421T043912
CREATED:20260116T184027Z
LAST-MODIFIED:20260116T184027Z
UID:8452-1769731200-1769990399@mymanitoulinisland.ca
SUMMARY:Little Current Lions Winterfest
DESCRIPTION:Little Current Lions Winterfest\nCome out to Little Current and enjoy all of the fun activities of the Little Current Lions Annual Winterfest 2026.  Lots of great hockey too!
URL:https://mymanitoulinisland.ca/event/little-current-lions-winterfest/
LOCATION:Little Current\, Ontario\, Canada
CATEGORIES:Family Event,Fun event,Outdoor Event
ATTACH;FMTTYPE=image/jpeg:https://mymanitoulinisland.ca/wp-content/uploads/2026/01/pexels-photo-813872-813872.jpg
END:VEVENT
BEGIN:VEVENT
DTSTART;TZID=America/Toronto:20251025T210000
DTEND;TZID=America/Toronto:20251026T020000
DTSTAMP:20260421T043912
CREATED:20251020T193107Z
LAST-MODIFIED:20251020T193107Z
UID:7806-1761426000-1761444000@mymanitoulinisland.ca
SUMMARY:Karaoke Night at Manitoulin Hotel & Conference Centre
DESCRIPTION:Karaoke Night at Manitoulin Hotel & Conference Centre\n$5 beer & huge prizes to be won!\nGather the crew and let’s sing all night!\n\n\n𝘿𝙤𝙣’𝙩 𝙢𝙞𝙨𝙨 𝙩𝙝𝙚 𝙥𝙖𝙧𝙩𝙮 𝙤𝙛 𝙩𝙝𝙚 𝙣𝙞𝙜𝙝𝙩!
URL:https://mymanitoulinisland.ca/event/karaoke-night-at-manitoulin-hotel-conference-centre/
LOCATION:Manitoulin Hotel & Conference Centre\, 66 Meredith St East\, Little Current\, Ontario\, P0P 1K0\, Canada
CATEGORIES:Fun event
END:VEVENT
BEGIN:VEVENT
DTSTART;VALUE=DATE:20251016
DTEND;VALUE=DATE:20251121
DTSTAMP:20260421T043912
CREATED:20250927T161753Z
LAST-MODIFIED:20250927T161937Z
UID:7716-1760572800-1763683199@mymanitoulinisland.ca
SUMMARY:Split Rail Corn Hole Tournament 2025
DESCRIPTION:Split Rail Corn Hole Tournament 2025\nThink you’ve got what it takes to be Split Rail’s 2025 Fall Corn Hole Champion? 🏆\nWHEN: Thursday Eves\, Oct 16 – Nov 20\nTIME: 6:30 PM – 8:00 PM\nWHERE: Split Rail\, 31 Water St.\, Gore Bay \nGrab your partner and bring your A-game! It’s time to show everyone who rules the boards! Ready to compete for ultimate bragging rights? \nTo register your team: \n📞 Call Shirley: (705) 370-8284 or\n📧 Email Shirley@splitrailmanitoulin.com
URL:https://mymanitoulinisland.ca/event/splitrail-corn-hole-tournament-2025/
LOCATION:Split Rail Brewery\, 31 Water St\,\, Gore Bay\, Ontario\, P0P 1H0\, Canada
CATEGORIES:Fun event
ATTACH;FMTTYPE=image/png:https://mymanitoulinisland.ca/wp-content/uploads/2025/09/Screenshot-2025-09-27-121623.png
END:VEVENT
END:VCALENDAR