BEGIN:VCALENDAR
VERSION:2.0
PRODID:-//Manitoulin Culinary Tourism - ECPv6.15.20//NONSGML v1.0//EN
CALSCALE:GREGORIAN
METHOD:PUBLISH
X-ORIGINAL-URL:https://mymanitoulinisland.ca
X-WR-CALDESC:Events for Manitoulin Culinary Tourism
REFRESH-INTERVAL;VALUE=DURATION:PT1H
X-Robots-Tag:noindex
X-PUBLISHED-TTL:PT1H
BEGIN:VTIMEZONE
TZID:America/Toronto
BEGIN:DAYLIGHT
TZOFFSETFROM:-0500
TZOFFSETTO:-0400
TZNAME:EDT
DTSTART:20250309T070000
END:DAYLIGHT
BEGIN:STANDARD
TZOFFSETFROM:-0400
TZOFFSETTO:-0500
TZNAME:EST
DTSTART:20251102T060000
END:STANDARD
BEGIN:DAYLIGHT
TZOFFSETFROM:-0500
TZOFFSETTO:-0400
TZNAME:EDT
DTSTART:20260308T070000
END:DAYLIGHT
BEGIN:STANDARD
TZOFFSETFROM:-0400
TZOFFSETTO:-0500
TZNAME:EST
DTSTART:20261101T060000
END:STANDARD
BEGIN:DAYLIGHT
TZOFFSETFROM:-0500
TZOFFSETTO:-0400
TZNAME:EDT
DTSTART:20270314T070000
END:DAYLIGHT
BEGIN:STANDARD
TZOFFSETFROM:-0400
TZOFFSETTO:-0500
TZNAME:EST
DTSTART:20271107T060000
END:STANDARD
END:VTIMEZONE
BEGIN:VEVENT
DTSTART;TZID=America/Toronto:20260509T100000
DTEND;TZID=America/Toronto:20260509T150000
DTSTAMP:20260422T080101
CREATED:20260129T181237Z
LAST-MODIFIED:20260129T181237Z
UID:8574-1778320800-1778338800@mymanitoulinisland.ca
SUMMARY:Central Manitoulin Spring Market - Providence Bay
DESCRIPTION:Central Manitoulin Spring Market – Providence Bay\nCome out an see all our great vendors. \nLocated at Providence Bay Exhibition Hall \n\nRegistrations Are Now open for the Spring Market.\n\n\nMay 9th at the Providence Bay Exhibition Hall – Providence Bay Agricultural Society.\n\n\nRegister Here: https://forms.gle/f1aYVXFkq7bg967h8
URL:https://mymanitoulinisland.ca/event/central-manitoulin-spring-market-providence-bay/
LOCATION:Providence Bay Arena\, 5143 Hwy 551\, Providence Bay\, Ontario\, P0P 1T0\, Canada
CATEGORIES:Seasonal Market
ATTACH;FMTTYPE=image/png:https://mymanitoulinisland.ca/wp-content/uploads/2026/01/Screenshot-2026-01-29-101957.png
END:VEVENT
END:VCALENDAR